BEGIN:VCALENDAR
VERSION:2.0
PRODID:-//wp-events-plugin.com//7.2.3.1//EN
BEGIN:VEVENT
UID:18@gasa.gov.bt
DTSTART;VALUE=DATE:20260402
DTEND;VALUE=DATE:20260408
DTSTAMP:20260324T084129Z
URL:https://gasa.gov.bt/events/melam-chenmo/
SUMMARY:Moenlam Chhenmo
DESCRIPTION:
ATTACH;FMTTYPE=image/jpeg:https://gasa.gov.bt/wp-content/uploads/2026/03/m
 el.jpg
CATEGORIES:Culture
LOCATION:Public Ground\, Gasa\, Bhutan\, Gasa\,Public Ground\, Bhutan
X-APPLE-STRUCTURED-LOCATION;VALUE=URI;X-ADDRESS=Gasa\, Bhutan\, Gasa\,Publi
 c Ground\, Bhutan;X-APPLE-RADIUS=100;X-TITLE=Public Ground:geo:0,0
END:VEVENT
END:VCALENDAR