BEGIN:VCALENDAR
VERSION:2.0
PRODID:-//wp-events-plugin.com//7.2.3.1//EN
BEGIN:VEVENT
UID:14@gasa.gov.bt
DTSTART;VALUE=DATE:20260325
DTEND;VALUE=DATE:20260329
DTSTAMP:20260324T083920Z
URL:https://gasa.gov.bt/events/gasa-tshechu/
SUMMARY:Gasa Tshechu
DESCRIPTION:.
ATTACH;FMTTYPE=image/jpeg:https://gasa.gov.bt/wp-content/uploads/2026/03/t
 shechu.jpg
CATEGORIES:Culture
LOCATION:Gasa Dzong\, Bhutan\, Gasa\, Bhutan\, Dzong’s Drasha Courtyard a
 nd Phu-lhakhang\, Gasa\, Bhutan
X-APPLE-STRUCTURED-LOCATION;VALUE=URI;X-ADDRESS=Gasa\, Bhutan\, Dzong’s D
 rasha Courtyard and Phu-lhakhang\, Gasa\, Bhutan;X-APPLE-RADIUS=100;X-TITL
 E=Gasa Dzong\, Bhutan:geo:0,0
END:VEVENT
END:VCALENDAR